BEGIN:VCALENDAR
VERSION:2.0
PRODID:-//wp-events-plugin.com//7.2.3.1//EN
BEGIN:VEVENT
UID:3573@tennis-kuenzelsau.de
DTSTART:20250718T000000Z
DTEND:20250720T000000Z
DTSTAMP:20250503T094358Z
URL:https://tennis-kuenzelsau.de/events/stadtfest/
SUMMARY:Stadtfest
DESCRIPTION:
CATEGORIES:Events
END:VEVENT
END:VCALENDAR