BEGIN:VCALENDAR
VERSION:2.0
PRODID:-//wp-events-plugin.com//7.2.3.1//EN
BEGIN:VEVENT
UID:3583@tennis-kuenzelsau.de
DTSTART:20251129T190000Z
DTEND:20251129T190000Z
DTSTAMP:20251030T144402Z
URL:https://tennis-kuenzelsau.de/events/herren-30-tc-oberstenfeld/
SUMMARY:Herren 30 - TC Oberstenfeld
DESCRIPTION:
CATEGORIES:Heimspiele
END:VEVENT
END:VCALENDAR