BEGIN:VCALENDAR
VERSION:2.0
PRODID:-//wp-events-plugin.com//7.2.3.1//EN
BEGIN:VEVENT
UID:3545@tennis-kuenzelsau.de
DTSTART:20250525T100000Z
DTEND:20250525T100000Z
DTSTAMP:20250503T085617Z
URL:https://tennis-kuenzelsau.de/events/herren-1-tc-moeckmuehl/
SUMMARY:Herren 1 - TC Möckmühl
DESCRIPTION:
CATEGORIES:Heimspiele
END:VEVENT
END:VCALENDAR