BEGIN:VCALENDAR
VERSION:2.0
PRODID:-//wp-events-plugin.com//7.2.3.1//EN
BEGIN:VEVENT
UID:3552@tennis-kuenzelsau.de
DTSTART:20250629T090000Z
DTEND:20250629T090000Z
DTSTAMP:20250503T090312Z
URL:https://tennis-kuenzelsau.de/events/damen-3-tc-sulmtal/
SUMMARY:Damen 3 - TC Sulmtal
DESCRIPTION:
CATEGORIES:Heimspiele
END:VEVENT
END:VCALENDAR