BEGIN:VCALENDAR
VERSION:2.0
PRODID:-//wp-events-plugin.com//7.2.3.1//EN
BEGIN:VEVENT
UID:3550@tennis-kuenzelsau.de
DTSTART:20250629T090000Z
DTEND:20250629T090000Z
DTSTAMP:20250503T090211Z
URL:https://tennis-kuenzelsau.de/events/damen-1-spg-hohenlohe-1/
SUMMARY:Damen 1 - SPG Hohenlohe 1
DESCRIPTION:
CATEGORIES:Heimspiele
END:VEVENT
END:VCALENDAR